BEGIN:VCALENDAR
VERSION:2.0
PRODID:icalendar-ruby
CALSCALE:GREGORIAN
METHOD:PUBLISH
BEGIN:VEVENT
DTSTAMP:20260425T024014Z
UID:404-992741@redeemeranglican.ca
DTSTART:20260520T010000Z
DTEND:20260520T030000Z
CLASS:PUBLIC
CREATED:20260408T163628
DESCRIPTION:We are excited to have Bishop Mike Stewart joining us for a Con
 firmation Service on Sunday\, May 24th. \nAll believers must publically a
 nd personally profess the Faith\, committing themselves to their baptismal
  covenant and to living their lives in service to God.  Confirmation is t
 he liturgical and sacramental expression of this confession and commitment
 .  The person being confirmed then receives the laying on of hands with p
 rayer for daily increase in the Holy Spirit\, strength for life in this wo
 rld\, and a release of the believer to minister in the grace of God in the
  Church and the world. \nIf you are interested in learning more about con
 firmation\, want to be confirmed\, or have been confirmed in another tradi
 tion and wish to join the Anglican Tradition officially\, please come to o
 ur Confirmation Class in the Fireside Room on Tuesday\, May 19th\, at 7 pm
 . \n\nQuestions? Contact Fr. Robert at robert@redeemeranglican.ca 
LAST-MODIFIED:20260408T163628
LOCATION:Fireside Room
SUMMARY:Confirmation Class
URL;VALUE=URI:https://redeemeranglican.ca/events/confirmation-class--404/20
 26-05-19
ATTACH;FILENAME=Website graphics (50).png;FMTTYPE=image/png:https://dq5pwpg
 1q8ru0.cloudfront.net/2026/04/08/21/24/41/bed9aea1-2399-4e15-910d-c69ad193
 fbb9/Website%20graphics%20(50).png
END:VEVENT
END:VCALENDAR
